BEGIN:VCALENDAR
VERSION:2.0
PRODID:UnionActive
URL:http://teamsterslocal673.com/?zone=/unionactive/calendar.cfm&usecalsection=main
NAME:www.teamsterslocal673.com main
X-WR-CALNAME:www.teamsterslocal673.com main
DESCRIPTION:www.teamsterslocal673.com main
X-WR-CALDESC:www.teamsterslocal673.com main
REFRESH-INTERVAL;VALUE=DURATION:PT12H
X-PUBLISHED-TTL:PT12H
CALSCALE:GREGORIAN
METHOD:PUBLISH
BEGIN:VEVENT
UID:13469228@teamsterslocal673.com
SUMMARY:General Membership Meeting
DESCRIPTION:Contact:  \nLink for more information: http://teamsterslocal673.com/index.cfm?zone=/unionactive/view_calendar.cfm&calendarID=13469228&thisdate=05/21/2026&useCalSection=main
LOCATION:Teamsters Local 673 Union Hall
URL:http://teamsterslocal673.com/index.cfm?zone=/unionactive/view_calendar.cfm&calendarID=13469228&thisdate=05/21/2026&useCalSection=main
DTSTART:20260522T000000Z
DTEND:20260522T000000Z
DTSTAMP:20260420T125802
TRIGGER:-PT60M
END:VEVENT
END:VCALENDAR
